BEGIN:VCALENDAR
VERSION:2.0
PRODID:icalendar-ruby
CALSCALE:GREGORIAN
METHOD:PUBLISH
BEGIN:VEVENT
DTSTAMP:20260424T060814Z
UID:39-733075@rossroadcc.ca
DTSTART:20261025T170000Z
DTEND:20261025T180000Z
CLASS:PUBLIC
CREATED:20260423T190004
DESCRIPTION:At Ross Road Community Church\, uur mission is to help people f
 ind and follow Jesus.  We do this in many ways throughout the week\, and 
 on Sunday we gather together to worship in community and learn more about 
 God.  \nHere's what you can expect when you attend Ross Road:\nANNOUNCEME
 NTS -  Find out what's going on at RRCC and in our community. From events
  to volunteer opportunities there is always something new to discover. You
 ’ll also find info on other happenings in the bulletin\, or in our weekl
 y electronic newsletter.\nLIVING FAITH - Hear updates from our ministry te
 ams\, congregational members and mission fields. It is amazing to see how 
 God works in people's lives.\nMUSIC &amp\; SINGING - Join us as we sing to
  the Lord together. You’ll find the song lyrics up on the big screen! If
  you need to have a printed copy\, you’ll find them in the lobby at the 
 Connect Desk.\n\nPRAYER - A time to reflect and pray for our missionaries\
 , our church family\, and other needs in our community and around the worl
 d. \n\nMESSAGE - One of our Pastoral staff or elders (and occasionally g
 uest speakers) will speak on a series or message that highlights themes an
 d passages of God's wisdom. At RRCC we believe all Scripture is inspired 
 by God and is the authoritative guide for faith and practice.\nONLINE SERV
 ICE - If you are unable to attend in-person for any reason\, we have an on
 line service available for you!  You can find that here: ONLINE SERVICE\n
  \n_____\nWe invite you to explore our website to learn more about our mi
 ssion\, values\, and upcoming events. Whether you're looking for a place t
 o worship\, a community to belong to\, or ways to serve\, we are happy to 
 have you here.
LAST-MODIFIED:20260423T190004
LOCATION:Ross Road Community Church
SUMMARY:Sunday Worship
URL;VALUE=URI:https://www.rossroadcc.ca/events/sunday-worship/2026-10-25
ATTACH;FILENAME=SUNDAY MORNING WORSHIP.jpg;FMTTYPE=image/jpeg:https://dq5pw
 pg1q8ru0.cloudfront.net/2025/09/09/20/02/00/589bc409-31a0-452c-a2b0-18e406
 438dc1/SUNDAY%20MORNING%20WORSHIP.jpg
END:VEVENT
END:VCALENDAR
