BEGIN:VCALENDAR
VERSION:2.0
PRODID:icalendar-ruby
CALSCALE:GREGORIAN
METHOD:PUBLISH
BEGIN:VEVENT
DTSTAMP:20260419T121209Z
UID:115-712341@rossroadcc.ca
DTSTART:20260425T160000Z
DTEND:20260425T200000Z
CLASS:PUBLIC
CREATED:20260414T110539
DESCRIPTION:Come and help make our church a warm and welcoming place! We ar
 e holding two church work days: April 18th and 25th\, from 9:00 a.m. to 1:
 00 p.m. Enjoy connecting with others while you help clean up our property.
  Whether you're a skilled handyman or just willing to lend a hand\, we'd l
 ove for you to join us. Tasks include weeding garden beds\, grounds clean-
 up\, pressure washing\, and some painting around the property. If you have
  tools\, please bring your own.
LAST-MODIFIED:20260414T110539
LOCATION:Ross Road Community Church
SUMMARY:Spring Work Days
URL;VALUE=URI:https://www.rossroadcc.ca/events/spring-work-days/2026-04-25
ATTACH;FILENAME=2026 Spring Work Days.jpg;FMTTYPE=image/jpeg:https://dq5pwp
 g1q8ru0.cloudfront.net/2026/04/14/18/05/38/c2e35471-f0fc-48e9-a439-8f2fe0b
 1f841/2026%20Spring%20Work%20Days.jpg
END:VEVENT
END:VCALENDAR
